Workbook

Sheet Instructions & Glossary
B1: NATIONAL PARK SERVICE MUSEUM RISK ASSESSMENT WORKSHEET
B82: Museum Risk Assessment Worksheet Version 1.2 issued by NPS Museum Management Program, August 2025
B84: NPS Museum Handbook Part I, Museum Risk Assessment Worksheet (Ver 1.2) Figure 10.2

Sheet Cover Sheet
B3: NATIONAL PARK SERVICE MUSEUM RISK ASSESSMENT WORKSHEET
B5: Park Name:
B7: Completed by:
C8: Name (print) | H8: Signature
C11: Title | H11: Date
C14: Telephone Number | H14: E-mail
B16: COMPLETED IN COLLABORATION WITH:
B18: Curator:
C19: Name (print) | H19: Title
B21: Facility Manager:
C22: Name (print) | H22: Title
B24: Structural Fire Coordinator:
C25: Name (print) | H25: Title | K25: Park/Region/Division
B27: Emergency Planning:
C28: Name (print) | H28: Title | K28: Park/Region/Division
B30: Safety Manager:
C31: Name (print) | H31: Title | K31: Park/Region/Division
B33: Other:
C34: Name (print) | H34: Title | K34: Park/Region/Division
B36: Superintendent:
C37: Name (print) | H37: Signature (optional)
B39: FACILITY EXECUTIVE SUMMARY (Complete narrative after identifying risks)
B46: FACILITY INFORMATION
B48: Facility Name: | G48: Describe:
B50: FMSS Number:
C51: (Facility Management Software System, PFMD)
B53: FBMS ID:
C54: (Federal Building Management System, PFMD)
B56: Facility Condition Index: | G56: Asset Priority Index:
B57: (Park Facilities & Management Division) | G57: (Park Facilities & Management Division)
B59: Ownership:
B60: (Select one) | E60: Describe:
B62: Facility is: | G62: Year built: | J62: Number of floors:
B63: (Select one)
B65: Building materials:
B66: (Envelope & Interior)
B68: Number of exterior doors:
E69: Describe, including materials and if original/historic/reproduction:
B71: Number of exterior windows:
E72: Describe, including materials and if original/historic/reproduction:
B74: Facility is located in: | G74: Yes/No | H74: Comments
B75: (Select "Yes" for all that apply) | C75: 100-year floodplain
C76: Area susceptible to flooding from tidal action
C77: Area of high-medium seismic activity
C78: Area with frequent hurricanes
C79: Area with frequent tornadoes
C80: Rock-fall area
C81: Near active volcano
C82: Near source of potential chemical spill / accident
C83: Wildland-Urban Interface
C84: Other (describe in Comments)
B86: Wildland Fire Vulnerability Score
B87: (click here for NPS Wildfire Risk Assessments Viewer app) | E87: Comments:
B89: Facility has:
B90: (Select "Yes" for all that apply) | C90: Attic | F90: Basement | I90: Loading dock
B92: Comments:
B94: FACILITY FUNCTION
B96: Is facility solely used for museum functions?
C97: (Yes/No) | E97: Describe:
B99: Facility contains | G99: Yes/No (Indicate all that apply) | H99: Sq ft (estimate) | I99: Cubic ft (estimate) | J99: Comments
C100: Collections Storage (Objects)
C101: Collections Storage (Archives)
C102: Collections Storage (Other)
C103: Temporary Holding Area
C104: Work/Preparation Room(s)
C105: Curatorial Office(s)
C106: Research Room
C107: Exhibit (Furnished Historic Structure)
C108: Exhibit (Visitor Center)
C109: Exhibit (Gallery/Museum)
C110: Exhibit (Administrative Office)
C111: Other (Describe):
C112: Total (Museum program) | H112: =SUM(H100:H111) -> 0 | I112: =SUM(I100:I111) -> 0
C113: Total (Entire building) | H113: sq ft | I113: cubic ft
B115: Percentage of objects in the entire collection stored or exhibited in this facility (estimate) | D115: %
E116: Comment:
B119: Facility has designated secure
B120: package receiving station? | C120: (Yes/No) | E120: Describe:
B122: Public programming
B123: takes place in facility? | C123: (Yes/No) | E123: Describe:
B125: Does facility house collections
B126: from multiple parks? | C126: (Yes/No) | E126: Describe:
B128: Total number of facilities
B129: housing collections at park | E129: Describe:
B131: Occupant Load | F131: individuals
B132: (Determined by Fire Dept.)
B134: Response Times: | E134: minutes | I134: minutes
C135: Fire Department | G135: Law Enforcement
B137: SYSTEMS
B138: Systems Installed: | C138: (Yes/No)
B139: Automatic fire detection | E139: When Installed: | H139: Most Recent Maintenance: | K139: Describe:
B140: Automatic fire sprinkler / suppression | E140: When Installed: | H140: Most Recent Maintenance: | K140: Describe:
B141: Intrusion detection and alarm | E141: When Installed: | H141: Most Recent Maintenance: | K141: Describe:
B142: HVAC | E142: When Installed: | H142: Most Recent Maintenance: | K142: Describe:
B143: Elevator | E143: When Installed: | H143: Most Recent Maintenance: | K143: Describe:
B145: Total Yes: | C145: =COUNTIF(C139:C143,"Yes") -> 0
B146: Total No: | C146: =COUNTIF(C139:C143,"No") -> 0
B148: TOTALS (DO NOT manually fill in, populates automatically)
B150: Risk Factor Responses: | F150: Yes | G150: No | H150: NA | I150: Unknown
C151: Museum Environment | F151: ='Museum Environment'!C38 -> 0 | G151: ='Museum Environment'!C39 -> 0 | H151: ='Museum Environment'!C40 -> 0 | I151: ='Museum Environment'!C41 -> 0
...

Sheet Assessments & Plans
B1: NATIONAL PARK SERVICE MUSEUM RISK ASSESSMENT WORKSHEET
B3: MUSEUM ASSESSMENTS & PLANS
B5: RISK ASSESSMENTS
C6: (Yes/No)
B7: NPS Checklist for Preservation and | D7: (Required) | E7: Year Approved | H7: Comments
B8: Protection of Museum Collections
B9: or equivalent
B11: Park Physical Security Assessment | D11: (Required) | E11: Year Approved | H11: Comments
B12: (Completed by LESES (Law Enforcement))
B14: Life Safety and Fire Protection Risk Assessment | D14: (Required) | E14: Year Approved | H14: Comments
B15: (Formerly Fire Protection Condition Assessment, Completed by NPS Structural Fire Management Program)
B17: Museum Security Survey | E17: Year Completed | H17: Comments
B18: NPS Object Assessment | E18: Year Completed | H18: Comments
B19: (MH I Figure 9.3)
B21: Wildland Fire Risk Assessment | E21: Year Approved | H21: Comments
B22: (Completed by National Interagency Fire Center & ArcGIS)
B24: Total Yes: | C24: =COUNTIF(C7:C22,"Yes") -> 0
B25: Total No: | C25: =COUNTIF(C7:C22,"No") -> 0
B27: MUSEUM PLANNING DOCUMENTS (This section applies to the entire park museum program. If park has multiple facilities housing collections, complete this section only once.)
C28: (Yes/No)
B29: Scope of Collections Statement | D29: (Required) | E29: Year Approved | H29: Comments
B31: Museum Collections Emergency | D31: (Required) | E31: Year Approved | H31: Comments
B32: Operations Plan (MCEOP)
B33: Museum Fire Section of Park | D33: (Required) | E33: Year Approved | H33: Comments
B34: Structural Fire Management Plan
B35: Museum Security Plan | D35: (Required) | E35: Year Approved | H35: Comments
B36: (Incorporated into Park Physical Security Plan)
B38: Collections Condition Survey(s) | E38: Year(s) Approved | H38: Comments
B40: Collection Management Plan | E40: Year Approved | H40: Comments
B41: Collections Storage Plan | E41: Year Approved | H41: Comments
B42: Museum Housekeeping Plan | E42: Year Approved | H42: Comments
B43: Integrated Pest Management Plan | E43: Year Approved | H43: Comments
B44: Museum Mitigation Action Plan | D44: (Required) | E44: Last Updated | H44: Comments
B45: (MH I Fig 10.3)
B47: Related Documents Addressing Museum Collections
B48: Exhibit Plan | E48: Year Approved | H48: Comments
B49: (Curatorial Review)
B50: Historic Furnishing Plan | E50: Year Approved | H50: Comments
B51: (Curatorial Review)
B52: Historic Structures Report(s) | E52: Year(s) Approved | H52: Comments
B56: Museum Risk Assessment Worksheet Version 1.2 issued by NPS Museum Management Program, August 2025
B58: NPS Museum Handbook Part I, Museum Risk Assessment Worksheet (Ver 1.2) Figure 10.2

Sheet Museum Environment
B1: NATIONAL PARK SERVICE MUSEUM RISK ASSESSMENT WORKSHEET
A2: # | B2: Risk Factors: MUSEUM ENVIRONMENT | C2: Response | D2: Mitigation | K2: Comments | L2: Source (Handbook/NPS Checklist)
B3: =_xlfn.CONCAT("Facility Name: ",'Cover Sheet'!C48) -> Facility Name: | C3: (Yes/No/ NA/ Unknown) | D3: Corrective Action Needed | E3: Corrective Action Priority | F3: Corrective Action Schedule | G3: Responsible Individual | H3: PMIS (Needed, Not Needed or PMIS #) | I3: Work Order (Needed, Not Needed, or Work Order #) | J3: Estimated Cost | L3: NPS Checklist | M3: Museum Handbook I
B4: (Curatorial Responses)
A5: 1 | B5: Structure excludes doors, windows, skylights, and chimneys to the extent possible, and is appropriately insulated to maintain a stable environment. | E5: =IF(C5="No","Critical","") | L5: B8 | M5: 4.C.2 Museum Environment
A6: 2 | B6: Park has established acceptable relative humidity (RH) and temperature set points and ranges based on an ongoing environmental monitoring program. | E6: =IF(C6="No","Critical","") | M6: 4.E-F, 4.F.6 Museum Environment
A7: 3 | B7: RH and temperature are stable within established set point and fluctuation range 24/7/365. | E7: =IF(C7="No","Critical","") | M7: 4.A.4 Museum Environment
A8: 4 | B8: Dataloggers or similar equipment record RH and temperature levels 24/7/365. | L8: A5, D1 | M8: 4.G.3 Museum Environment
A9: 5 | B9: Storage cabinets and exhibit cases are situated away from poorly-insulated exterior walls to minimize RH and temperature fluctuations. | M9: 4.C.1 Museum Environment
A10: 6 | B10: Museum objects are displayed away from heating and air-conditioning vents. | L10: A6 | M10: 4.A.4 Museum Environment
A11: 7 | B11: Metal objects are stored in microenvironments with low RH. | M11: 4.F.8, Fig. 4.5 Museum Environment
A12: 8 | B12: Space has functioning active or mechanical systems (heating, ventilation and air conditioning (HVAC) to control temperature. | E12: =IF(C12="No","Critical","") | L12: D12 | M12: 4.H.4 Museum Environment
A13: 9 | B13: Space has functioning active or mechanical systems (heating, ventilation and air conditioning (HVAC)) to control relative humidity (RH). | E13: =IF(C13="No","Critical","") | L13: D12 | M13: 4.H.4 Museum Environment
A14: 10 | B14: Windows, skylights, and other sources of ultraviolet radiation (UV) are blocked (such as with plywood) or covered with filtering material to prevent UV penetration. (If space has no windows or skylights, respond NA) | E14: =IF(C14="No","Critical","") | L14: B8 | M14: 4.C.2 Museum Environment
A15: 11 | B15: UV filtering material is monitored to ensure continued effectiveness. | L15: D8 | M15: 4.J.4 Museum Environment
A16: 12 | B16: Objects made of organic materials are regularly rotated off exhibit under an appropriate schedule to limit cumulative UV damage. | M16: 4.I.6 Museum Environment
A17: 13 | B17: Objects made of organic materials (including artwork) and photographs are not exposed to UV radiation. | E17: =IF(C17="No","Critical","") | L17: A8 | M17: 4.J.3 Museum Environment
A18: 14 | B18: Exhibit cases are illuminated with lighting that does not generate UV or heat buildup (such as LED bulbs), or are externally illuminated. | M18: 4.J.3 Museum Environment
A19: 15 | B19: Light sources that do not emit UV radiation have been installed in storage and on exhibit. | M19: 4.I.3 Museum Environment
A20: 16 | B20: Framed 2-D artwork is UV filtered with museum-quality glass, acrylic, or equivalent material. | M20: 4.J.3 Museum Environment
A21: 17 | B21: If historic glass on 2-D artwork does not filter UV, the artwork is displayed in an area that does not receive direct sunlight, or nearby exterior windows UV filtered to block UV rays. | M21: 4.J.3 Museum Environment
A22: 18 | B22: Dataloggers or similar equipment are calibrated and regularly maintained. | L22: G4, G5 | M22: 4.G.1 Museum Environment
A23: 19 | B23: Datalogger records, outside temperatures, weather observations, and seasonal changes are analyzed to determine extremes, frequency and extent of fluctuations. | L23: D4 | M23: 4.G.4 Museum Environment
A24: 20 | B24: Visible spectrum of light is routinely monitored and recorded for illuminance level and duration. | L24: D5 | M24: 4.J.1 Museum Environment
A25: 21 | B25: Natural light (UV) levels have been recorded quarterly for one year to establish seasonal variations. | L25: D6 | M25: 4.J.3 Museum Environment
A26: 22 | B26: Air pollution is monitored and controlled. | M26: 4.L.2-3 Museum Environment
B27: (Facility Manager)
A28: 23 | B28: If RH and temperature exceed acceptable ranges, corrective actions are taken to return to acceptable ranges. | M28: 4.C.7 Museum Environment
A29: 24 | B29: HVAC system is <15 years old, is inspected annually, and has scheduled preventative maintenance services (filter replacement, duct cleaning, duct/register/vent balancing). | M29: 10.E.14 Emergency Planning
A30: 25 | B30: HVAC vents are free of obstruction. | M30: 9.E.1 Museum Fire Protection
A31: 26 | B31: HVAC system drainage and condensation collection pans are unimpeded, checked routinely and are free from leaks. | M31: 4.H.1 Museum Environment
A32: 27 | B32: Pipes (including sprinkler pipes), fan coils, faucets, storm drains, and plumbing are up-to-code and free of leaks. | M32: 10.E.14 Emergency Planning
A33: 28 | B33: Particulates (dust) in museum storage and exhibit spaces are controlled. | L33: D16 | M33: 4.L.3 Museum Environment
A34: 29 | B34: Filters are regularly replaced. | M34: 4.L.3 Museum Environment
B37: Risk Factor Responses
B38: Total Yes | C38: =COUNTIF(C5:C36,"Yes") -> 0
B39: Total No | C39: =COUNTIF(C5:C36,"No") -> 0
B40: Total NA | C40: =COUNTIF(C5:C36,"NA") -> 0
B41: Total Unknown | C41: =COUNTIF(C5:C36,"Unknown") -> 0
B43: Corrective Action Priorities
B44: Total Critical | E44: =COUNTIF(E5:E36,"Critical") -> 0
B45: Total High | E45: =COUNTIF(E5:E36,"High") -> 0
B46: Total Medium | E46: =COUNTIF(E5:E36,"Medium") -> 0
B47: Total Low | E47: =COUNTIF(E5:E36,"Low") -> 0
B49: Corrective Action Schedule
B50: Total Immediate | F50: =COUNTIF(F5:F36,"Immediate") -> 0
B51: Total Intermediate | F51: =COUNTIF(F5:F36,"Intermediate") -> 0
B52: Total Long-Term | F52: =COUNTIF(F5:F36,"Long-Term") -> 0
B54: Total PMIS Statements Needed | H54: =COUNTIF(H5:H36,"Needed") -> 0
B55: Total Work Orders Needed | I55: =COUNTIF(I5:I36,"Needed") -> 0
B56: Total Estimated Cost | J56: =SUM(J5:J26, J28:J34) -> 0
B59: Museum Risk Assessment Worksheet Version 1.2 issued by NPS Museum Management Program, August 2025
B61: NPS Museum Handbook Part I, Museum Risk Assessment Worksheet (Ver 1.2) Figure 10.2

Sheet Museum IPM_Housekeeping
B1: NATIONAL PARK SERVICE MUSEUM RISK ASSESSMENT WORKSHEET
A2: # | B2: Risk Factors: MUSEUM IPM & HOUSEKEEPING | C2: Response | D2: Mitigation | K2: Comments | L2: Source (Handbook/NPS Checklist)
B3: =_xlfn.CONCAT("Facility Name: ",'Cover Sheet'!C48) -> Facility Name: | C3: (Yes/No/ NA/ Unknown) | D3: Corrective Action Needed | E3: Corrective Action Priority | F3: Corrective Action Schedule | G3: Responsible Individual | H3: PMIS (Needed, Not Needed or PMIS #) | I3: Work Order (Needed, Not Needed, or Work Order #) | J3: Estimated Cost | L3: NPS Checklist | M3: Museum Handbook I
B4: (Curatorial Responses)
A5: 1 | B5: A museum IPM plan has been developed and implemented to preserve the collection. (If no formal museum IPM Plan exists, duties are carried out in accordance with Museum Handbook, Part I.) | M5: 5.D.1 Biological Infestations
A6: 2 | B6: Control of museum pests is implemented in coordination with the park's Integrated Pest Management Program. | L6: D10 | M6: 5.B.1 Biological Infestations
A7: 3 | B7: Insect sticky traps are installed, inspected and logged weekly, and replaced monthly. | E7: =IF(C7="No","Critical","") | L7: D9 | M7: 5.E.3 Biological Infestations
A8: 4 | B8: Rodent snap traps are inspected daily. | L8: D9 | M8: 5.E.3 Biological Infestations
A9: 5 | B9: Museum objects are inspected for evidence of insect, mold, and rodent infestations regularly (such as every three to six months). | E9: =IF(C9="No","Critical","") | L9: D9 | M9: 5.E.3 Biological Infestations
A10: 6 | B10: Incoming collections are inspected, isolated, and monitored for at least 30 days before entering collections storage or exhibit areas. | M10: 5.E.14 Biological Infestations
A11: 7 | B11: Park has capacity to freeze infested objects in-house or through contract. | M11: 5.B.4 Biological Infestations
A12: 8 | B12: Packing materials are kept separate from collection areas, and are immediately discarded if dirty or traces of pests are found. | M12: 5.E.14 Biological Infestations
A13: 9 | B13: Drinking, eating, and displaying living plants, fresh flowers, and foodstuffs are prohibited from storage, research and work, preparation, and exhibit areas in writing. | E13: =IF(C13="No","Critical","") | L13: G3 | M13: 5.A.3 Biological Infestations
A14: 10 | B14: Staff food and drink are stored and consumed only in designated breakrooms. Food and drinks are not left open, and are stored in sealed containers in the breakroom. | M14: 5.F.2 Biological Infestations
A15: 11 | B15: Museum Housekeeping Plan has been developed and implemented | M15: 13.A.2 Museum Housekeeping
A16: 12 | B16: Museum Housekeeping Plan is reviewed annually and revised as needed. | L16: G6 | M16: 13.A.2 Museum Housekeeping
A17: 13 | B17: Housekeeping is performed according to the Plan's established schedule. | L17: G1 | M17: 13.A.2 Museum Housekeeping
A18: 14 | B18: Dusting and vacuuming museum objects is only performed by appropriately trained staff. | L18: A9 | M18: 6.B.3 Handling, Packing & Shipping
A19: 15 | B19: Exhibit cases are designed and fabricated for ease of access for cleaning and rotation of organic materials. | L19: C5 | M19: MHIII.7.J.1 Using Museum Collections in Exhibits
B20: (Facility Manager, Integrated Pest Management (IPM) Coordinator & Others)
A21: 16 | B21: Windows, gaps, and holes in the building envelope are sealed, caulked, or otherwise blocked. | M21: 5.F.3 Biological Infestations
A22: 17 | B22: Cracks and openings into the structure are repaired to prevent pest entry. | M22: 5.F.3 Biological Infestations
A23: 18 | B23: Bird and rodent-proof chimney guards are installed over fireplace chimneys. | M23: 5.F.3 Biological Infestations
A24: 19 | B24: Mesh screens are installed on air vents, hot air registers, and floor drains. | M24: 5.F.3 Biological Infestations
A25: 20 | B25: Sodium vapor lighting is installed in outdoor fixtures to avoid attracting insects. | M25: 5.F.3 Biological Infestations
A26: 21 | B26: Outdoor park lights are mounted 30 feet away from the building and face away from the building. | M26: 5.F.3 Biological Infestations
A27: 22 | B27: An 18-30" wide vegetation-free zone is maintained around building perimeter. (For furnished historic structures, respond NA or describe in Comments column) | M27: 5.F.3 Biological Infestations
A28: 23 | B28: Trash is disposed of in sealed containers and removed from the building daily. | M28: 5.F.3 Biological Infestations
A29: 24 | B29: Dumpsters are kept at a distance from the building and loading dock. | M29: 5.F.3 Biological Infestations
A30: 25 | B30: Receiving/unloading dock or area is located away from collections. | M30: 5.F.3 Biological Infestations
A31: 26 | B31: Sources of harborage are eliminated from the building interior and immediately adjacent to the exterior. | M31: 5.F.3 Biological Infestations
A32: 27 | B32: Sources of moisture and high humidity that encourage mold growth and attract pests are eliminated. | M32: 5.F.3 Biological Infestations
A33: 28 | B33: Self-closing devices, sweeps, and gaskets are installed on all exterior and interior doors in areas housing collections. | M33: 5.F.3 Biological Infestations
B36: Risk Factor Responses
B37: Total Yes | C37: =COUNTIF(C5:C35,"Yes") -> 0
B38: Total No | C38: =COUNTIF(C5:C35,"No") -> 0
B39: Total NA | C39: =COUNTIF(C5:C35,"NA") -> 0
B40: Total Unknown | C40: =COUNTIF(C5:C35,"Unknown") -> 0
B42: Corrective Action Priorities
B43: Total Critical | E43: =COUNTIF(E5:E35,"Critical") -> 0
B44: Total High | E44: =COUNTIF(E5:E35,"High") -> 0
B45: Total Medium | E45: =COUNTIF(E5:E35,"Medium") -> 0
B46: Total Low | E46: =COUNTIF(E5:E35,"Low") -> 0
B48: Corrective Action Schedule
B49: Total Immediate | F49: =COUNTIF(F5:F35,"Immediate") -> 0
B50: Total Intermediate | F50: =COUNTIF(F5:F35,"Intermediate") -> 0
B51: Total Long-Term | F51: =COUNTIF(F5:F35,"Long-Term") -> 0
B53: Total PMIS Statements Needed | H53: =COUNTIF(H5:H35,"Needed") -> 0
B54: Total Work Orders Needed | I54: =COUNTIF(I5:I35,"Needed") -> 0
B55: Total Estimated Cost | J55: =SUM(J5:J19, J21:J33) -> 0
B58: Museum Risk Assessment Worksheet Version 1.2 issued by NPS Museum Management Program, August 2025
B60: NPS Museum Handbook Part I, Museum Risk Assessment Worksheet (Ver 1.2) Figure 10.2

Sheet Handling_Packing (Museum-wide)
B1: NATIONAL PARK SERVICE MUSEUM RISK ASSESSMENT WORKSHEET
A2: # | B2: Risk Factors: HANDLING & PACKING (Museum-wide) | C2: Response | D2: Mitigation | K2: Comments | L2: Source (Handbook/NPS Checklist)
B3: =_xlfn.CONCAT("Facility Name: ",'Cover Sheet'!C48) -> Facility Name: | C3: (Yes/No/ NA/ Unknown) | D3: Corrective Action Needed | E3: Corrective Action Priority | F3: Corrective Action Schedule | G3: Responsible Individual | H3: PMIS (Needed, Not Needed or PMIS #) | I3: Work Order (Needed, Not Needed, or Work Order #) | J3: Estimated Cost | L3: NPS Checklist | M3: Museum Handbook I | N3: NPS Conserve O Gram
B4: (Curatorial Responses)
A5: 1 | B5: Museum staff are trained and practice safe object handling and lifting techniques. | E5: =IF(C5="No","Critical","") | L5: A9 | M5: 6.B.5 Handling, Packing & Shipping
A6: 2 | B6: Staff wear nitrile gloves when handling all museum objects. | E6: =IF(C6="No","Critical","") | M6: 6.B.7 Handling, Packing & Shipping | N6: COG 1/12 Museum Collection Preservation
A7: 3 | B7: Objects in storage are tagged with their catalog number to aid in identification and minimize handling. | M7: 6.B.5 Handling, Packing & Shipping
A8: 4 | B8: Carts and other equipment are available and in good condition to safely move objects. | M8: 6.B.3 Handling, Packing & Shipping
A9: 5 | B9: Objects are housed using appropriate methods, such as cavity packing, to minimize vibration and movement. | M9: 6.E.4 Handling, Packing & Shipping
A10: 6 | B10: Handling and moving objects is planned in advance to minimize damage. | M10: 6.B.1 Handling, Packing & Shipping
A11: 7 | B11: When moving objects, new storage location of appropriate size has been identified ahead of time. | M11: 6.C.2 Handling, Packing & Shipping
A12: 8 | B12: Objects are moved through public spaces outside of visitation hours, or during periods of low visitation. | M12: 6.C.2 Handling, Packing & Shipping
A13: 9 | B13: Only one object (such as a basket) is lifted or handled at a time, using both hands as appropriate. | M13: 6.C.2 Handling, Packing & Shipping
A14: 10 | B14: Bagged small items such as archeological sherds are handled to prevent damage or dropping. | M14: 6.C.2 Handling, Packing & Shipping
A15: 11 | B15: When using a ladder, objects are passed to staff on ground rather than carried up and down. | M15: 6.C.2 Handling, Packing & Shipping
A16: 12 | B16: Heavy and/or large objects or containers are moved by two or more people. | M16: 6.C.4 Handling, Packing & Shipping
A17: 13 | B17: ID cards and jewelry such as necklaces and rings that can catch on objects are removed when handling objects. | M17: 6.C.5 Handling, Packing & Shipping
A18: 14 | B18: Sufficient and clean work space is available for housing and packing objects. | M18: 6.C.5 Handling, Packing & Shipping
... A20: 16 | B20: Objects are always accompanied when being moved. | M20: 6.C.5 Handling, Packing & Shipping
A21: 17 | B21: Exhibit mounts are designed to fully support objects and are constructed of museum-quality materials. (If no mounts are used respond NA) | L21: C6 | M21: 6.C.5 Handling, Packing & Shipping
A22: 18 | B22: Damaged objects are housed to prevent further damage and scheduled for conservation treatment. | M22: 6.H.3 Handling, Packing & Shipping
A23: 19 | B23: Object condition is evaluated to determine if safe to ship, and Object Condition Report completed for short-term outgoing loans. | M23: 6.C.4 Handling, Packing & Shipping
A24: 20 | B24: Object is photographed before packing for shipping or transportation. | M24: 6.C.4 Handling, Packing & Shipping
A25: 21 | B25: Park uses a reputable and experienced professional art shipper to ship art objects. | M25: 6.G.1 Handling, Packing & Shipping
A26: 22 | B26: Appropriate route and shipping method is selected to minimize potential damage. | M26: 6.G.5 Handling, Packing & Shipping
A27: 23 | B27: Shipping containers are sealed to prevent water and pest infiltration. | M27: 6.E.6 Handling, Packing & Shipping
A28: 24 | B28: Museum staff follow federal packaging and shipping laws and regulations for hazardous materials such as cellulose nitrate. | M28: App M Management of Cellulose Nitrate & Cellulose Ester Film | N28: COG 2/20 Security, Fire,and Curatorial Safety
B31: Risk Factor Responses
B32: Total Yes | C32: =COUNTIF(C5:C29,"Yes") -> 0
B33: Total No | C33: =COUNTIF(C5:C29,"No") -> 0
B34: Total NA | C34: =COUNTIF(C5:C29,"NA") -> 0
B35: Total Unknown | C35: =COUNTIF(C5:C29,"Unknown") -> 0
B37: Corrective Action Priorities
B38: Total Critical | E38: =COUNTIF(E5:E29,"Critical") -> 0
B39: Total High | E39: =COUNTIF(E5:E29,"High") -> 0
B40: Total Medium | E40: =COUNTIF(E5:E29,"Medium") -> 0
B41: Total Low | E41: =COUNTIF(E5:E29,"Low") -> 0
B43: Corrective Action Schedule
B44: Total Immediate | F44: =COUNTIF(F5:F29,"Immediate") -> 0
B45: Total Intermediate | F45: =COUNTIF(F5:F29,"Intermediate") -> 0
B46: Total Long-Term | F46: =COUNTIF(F5:F29,"Long-Term") -> 0
B48: Total PMIS Statements Needed | H48: =COUNTIF(H5:H29,"Needed") -> 0
B49: Total Work Orders Needed | I49: =COUNTIF(I5:I29,"Needed") -> 0
B50: Total Estimated Cost | J50: =SUM(J5:J28) -> 0
B53: Museum Risk Assessment Worksheet Version 1.2 issued by NPS Museum Management Program, August 2025
B55: NPS Museum Handbook Part I, Museum Risk Assessment Worksheet (Ver 1.2) Figure 10.2

Sheet Museum Storage
B1: NATIONAL PARK SERVICE MUSEUM RISK ASSESSMENT WORKSHEET
A2: # | B2: Risk Factors: MUSEUM STORAGE | C2: Response | D2: Mitigation | K2: Comments | L2: Source (Handbook/NPS Checklist)
B3: =_xlfn.CONCAT("Facility Name: ",'Cover Sheet'!C48) -> Facility Name: | C3: (Yes/No/ NA/ Unknown) | D3: Corrective Action Needed | E3: Corrective Action Priority | F3: Corrective Action Schedule | G3: Responsible Individual | H3: PMIS (Needed, Not Needed or PMIS #) | I3: Work Order (Needed, Not Needed, or Work Order #) | J3: Estimated Cost | L3: NPS Checklist | M3: Museum Handbook I
B4: (Curatorial Responses)
A5: 1 | B5: Storage facility, room, or space is dedicated solely to storage of museum objects, and is separated from offices, research, work and preparation areas. | E5: =IF(C5="No","Critical","") | L5: B1, B2 | M5: 7.B.1 Museum Collection Storage | N5: 9.E.1 Museum Fire Protection
A6: 2 | B6: Collections are stored in spaces other than outbuildings, closets, unimproved basements, attics, or temporary buildings such as trailers. | E6: =IF(C6="No","Critical","") | M6: 7.B.1 Museum Collection Storage
A7: 3 | B7: Storage room is organized to allow for safe and easy access to storage furniture, proper use of equipment such as carts, and movement of staff. | E7: =IF(C7="No","Critical","") | L7: B11, B13 | M7: 11.H.2 Curatorial Health & Safety | N7: 7.B.1 Museum Collection Storage
A8: 4 | B8: Space is large enough to accommodate the current museum collection and anticipated growth. | L8: B12 | M8: 7.B.1 Museum Collection Storage
A9: 5 | B9: Storage furniture such as cabinetry is sufficient to store museum objects safely without crowding or hindrance. | L9: B14 | M9: 7.B.1 Museum Collection Storage
A10: 6 | B10: Paths and aisles are kept clear and unobstructed. | M10: 9.E.19 Museum Fire Protection
A11: 7 | B11: Museum storage cabinets and shelving units are raised 4" to 6" off the floor as a precaution against flooding. | E11: =IF(C11="No","Critical","") | L11: B20 | M11: 7.C.1 Museum Collection Storage
A12: 8 | B12: Museum storage cabinets (including mobile compact carriages) are of sealed, powder-coated steel construction. | M12: 7.C.2 Museum Collection Storage
A13: 9 | B13: Museum storage cabinets are in good condition (e.g., rust free, well-sealed, free of leaks, smoothly operating doors). | L13: B15 | M13: 4.H.3 Museum Environment
A14: 10 | B14: Object storage shelving is metal. (If there is no open shelving, respond NA) | M14: 7.C.2 Museum Collection Storage
A15: 11 | B15: Objects stored on open shelving are protected from leaks and water damage. (If there is no open shelving, respond NA) | M15: 7.C.1 Museum Collection Storage
A16: 12 | B16: Museum storage cabinets are not stacked more than two high. | L16: B17 | M16: 7.C.1 Museum Collection Storage
A17: 13 | B17: Objects are stored for easy and safe access without disturbing or damaging adjacent objects. | M17: 9.C.2 Museum Fire Protection
A18: 14 | B18: Open shelving is free of burrs, splinters, exposed nails, screws, and bolts that can damage museum objects. | L18: B18 | M18: 7.C.1 Museum Collection Storage
A19: 15 | B19: Heavy and oversize museum objects are housed off the floor or on bottom shelves. | M19: 7.H.1 Museum Collection Storage
A20: 16 | B20: Storage cabinet drawers and shelves are loaded within manufacturer's recommended weight capacity. | L20: B16 | M20: 7.C.1 Museum Collection Storage
A21: 17 | B21: Objects and archival items are housed using museum-quality materials, including containers, folders, herbarium sheets, and/or boxes. | E21: =IF(C21="No","Critical","") | M21: 6.E.4 Handling, Packing & Shipping
A22: 18 | B22: Museum objects that are stacked (such as plates) are protected by cushioning materials. | L22: B19 | M22: 7.C.1 Museum Collection Storage
A23: 19 | B23: Objects in museum storage cabinets and on shelving are cushioned with museum-quality materials. (If natural history specimens are to be used for analysis of organic chemicals, do not use any kind of plastic in storage containers.) | L23: B24 | M23: 7.I.2 Museum Collection Storage
A24: 20 | B24: Objects in cabinet drawers are placed in trays or containers, padded, or otherwise prevented from shifting when drawers are opened. | L24: B25 | M24: 7.I.2 Museum Collection Storage
A25: 21 | B25: Fragile and/or small objects such as ceramics are housed using cradle or ring mounts, cavity packing, and/or in bags such as for archeological sherds. | M25: 10.E.5 Emergency Planning
A26: 22 | B26: Framed artwork on storage screens is attached with steel “S” hooks. | M26: 7 Fig 7.2b Museum Collection Storage
A27: 23 | B27: Photographic negatives and film are stored in cold storage. | M27: 4.E.4 Museum Environment
A28: 24 | B28: Supplies and equipment, including paper supplies and audiovisual equipment, are stored outside the museum storage space. | M28: 7.B.2 Museum Collection Storage
B29: (Facility Manager)
A30: 25 | B30: Freestanding museum storage cabinets are attached to the wall and have steel cross-braces. | M30: 7.C.1 Museum Collection Storage
A31: 26 | B31: Heavy, oversized, and/or tall storage furniture, including mobile storage systems and open shelving, are braced or bolted and secured to load-bearing walls and/or floor to prevent tipping. | L31: B21 | M31: 7.C.1 Museum Collection Storage
B34: Risk Factor Responses
B35: Total Yes | C35: =COUNTIF(C5:C32,"Yes") -> 0
B36: Total No | C36: =COUNTIF(C5:C32,"No") -> 0
B37: Total NA | C37: =COUNTIF(C5:C32,"NA") -> 0
B38: Total Unknown | C38: =COUNTIF(C5:C32,"Unknown") -> 0
B40: Corrective Action Priorities
B41: Total Critical | E41: =COUNTIF(E5:E32,"Critical") -> 0
B42: Total High | E42: =COUNTIF(E5:E32,"High") -> 0
B43: Total Medium | E43: =COUNTIF(E5:E32,"Medium") -> 0
B44: Total Low | E44: =COUNTIF(E5:E32,"Low") -> 0
B46: Corrective Action Schedule
B47: Total Immediate | F47: =COUNTIF(F5:F32,"Immediate") -> 0
B48: Total Intermediate | F48: =COUNTIF(F5:F32,"Intermediate") -> 0
B49: Total Long-Term | F49: =COUNTIF(F5:F32,"Long-Term") -> 0
B51: Total PMIS Statements Needed | H51: =COUNTIF(H5:H32,"Needed") -> 0
B52: Total Work Orders Needed | I52: =COUNTIF(I5:I32,"Needed") -> 0
B53: Total Estimated Cost | J53: =SUM(J5:J28, J30:J31) -> 0
B56: Museum Risk Assessment Worksheet Version 1.2 issued by NPS Museum Management Program, August 2025
B58: NPS Museum Handbook Part I, Museum Risk Assessment Worksheet (Ver 1.2) Figure 10.2

Sheet Museum Emergency Planning
B1: NATIONAL PARK SERVICE MUSEUM RISK ASSESSMENT WORKSHEET
A2: # | B2: Risk Factors: MUSEUM EMERGENCY PLANNING | C2: Response | D2: Mitigation | K2: Comments | L2: Source (Handbook/NPS Checklist)
B3: =_xlfn.CONCAT("Facility Name: ",'Cover Sheet'!C48) -> Facility Name: | C3: (Yes/No/ NA/ Unknown) | D3: Corrective Action Needed | E3: Corrective Action Priority | F3: Corrective Action Schedule | G3: Responsible Individual | H3: PMIS (Needed, Not Needed or PMIS #) | I3: Work Order (Needed, Not Needed, or Work Order #) | J3: Estimated Cost | L3: NPS Checklist | M3: Museum Handbook I
B4: (Curatorial Responses)
A5: 1 | B5: Museum Collections Emergency Operations Plan (MCEOP), including Emergency Response Steps for different emergency incidents, has been developed, is up to date, has been incorporated into park Emergency Operations Plan, and includes this facility. | E5: =IF(C5="No","Critical","") | L5: E8 | M5: 10.B.2 Emergency Planning
A6: 2 | B6: Collections are housed away from floors susceptible to flooding (i.e. above the basement and below the attic). | E6: =IF(C6="No","Critical","") | L6: B5 | M6: 10.E.1 Emergency Planning
A7: 3 | B7: Collections are housed away from sources of running water such as restrooms and water, waste, steam, fuel, or other liquid pipes. | E7: =IF(C7="No","Critical","") | L7: B5 | M7: 10.E.14 Emergency Planning
A8: 4 | B8: Storage and exhibit areas are free of drains to prevent backups and minimize moisture that can lead to mold and pest issues. | L8: B5 | M8: 10.E.14 Emergency Planning
A9: 5 | B9: Restraining bars, cords, or similar devices are installed on edges of shelves to prevent objects from sliding off shelving. | L9: B23 | M9: 10.E.5 Emergency Planning
A10: 6 | B10: Floor and wall materials and coverings are of materials such as tile that will minimize flood water retention (e.g. free of carpeting or wallpaper). (For furnished historic structures respond NA and describe in Comments column) | M10: 10.E.14 Emergency Planning
A11: 7 | B11: Electronic museum records and digital images are backed up and stored in multiple locations, at least one of which is off-site. | M11: 10.D.8 Emergency Planning
A12: 8 | B12: Museum staff are trained to secure and/or relocate collections to a designated secure and stable location for emergency incidents with advanced notice (hurricane, wildland fire, etc). | M12: 10.G.2, 10.H.1 Emergency Planning
A13: 9 | B13: Staff are trained biannually and drilled in evacuation procedures for all emergency types. | M13: 10.J.1 Emergency Planning
A14: 10 | B14: Museum staff is trained in basic salvage techniques. | M14: 10.I.4 Emergency Planning
A15: 11 | B15: Museum staff knows how to secure the building in the event of an emergency incident. | M15: 10.F.1 Emergency Planning
A16: 12 | B16: Designated staff knows how to use (turn on and off) utilities such as water shut-offs to stop leaks, or can contact appropriate individual in a timely fashion. | M16: 10.F.1 Emergency Planning
B17: (Facility Manager, Emergency Services Coordinator & Others)
A18: 13 | B18: Space is free of water, waste, and fuel pipes other than those needed for fire suppression. | E18: =IF(C18="No","Critical","") | L18: B9 | M18: 7.B.8 Museum Collection Storage
A19: 14 | B19: Structure has been built or modified to withstand earthquake damage. (For furnished historic structure, describe in Comments column.) | E19: =IF(C19="No","Critical","") | M19: 10.E.5 Emergency Planning
A20: 15 | B20: Building’s floor loading capacity is known, and equipment and contents are within floor loading capacity. | M20: 10.E.3 Emergency Planning
A21: 16 | B21: Building has a back-up power source such as generator, batteries or a solar panel for utilities and systems (such as fire and security) in case of power outage. | M21: 10.E.10 Emergency Planning
A22: 17 | B22: Building has adequate (1 per staff member) and functioning emergency flashlights and communications tools such as walkie-talkies. | M22: 10.F.7 Emergency Planning
A23: 18 | B23: Museum staff have access to weather band radios or other weather alert equipment when cellular coverage is not available. | M23: 10.E.11 Emergency Planning
A24: 19 | B24: Building is free of construction or renovation, including HVAC, roof, and plumbing or wiring work. | M24: 10.E.4 Emergency Planning
A25: 20 | B25: Drains (including storm drains), pipes, and sewer lines are unimpeded and checked at least annually. | M25: 10.E.14 Emergency Planning
A26: 21 | B26: Storm drains are fitted with screens to prevent small items from washing down the drain. | M26: 10.E.11 Emergency Planning
A27: 22 | B27: Building pipes and other conduits are enclosed and/or insulated to prevent freezing in winter. | M27: 10.E.11 Emergency Planning
A28: 23 | B28: All drains, conduits, and pipes are clearly marked on building plans so they can be found quickly in case of leaks. | M28: 10.E.14 Emergency Planning
A29: 24 | B29: Building has good drainage near the footings or has been landscaped to move water away from the building. | M29: 10.E.14 Emergency Planning
A30: 25 | B30: Trees and shrubs within 15 feet of the building are marked on landscaping plans so that tree roots acting as water courses can be found. | M30: 10.E.14 Emergency Planning
A31: 26 | B31: Check valves are installed in building sewer traps to prevent floodwaters from backing up. | M31: 10.E.14 Emergency Planning
... A41: 36 | B41: Interior of space has functioning emergency lighting. | M41: 10.E.10 Emergency Planning
B44: Risk Factor Responses
B45: Total Yes | C45: =COUNTIF(C5:C42,"Yes") -> 0
B46: Total No | C46: =COUNTIF(C5:C42,"No") -> 0
B47: Total NA | C47: =COUNTIF(C5:C42,"NA") -> 0
B48: Total Unknown | C48: =COUNTIF(C5:C42,"Unknown") -> 0
B50: Corrective Action Priorities
B51: Total Critical | E51: =COUNTIF(E5:E42,"Critical") -> 0
B52: Total High | E52: =COUNTIF(E5:E42,"High") -> 0
B53: Total Medium | E53: =COUNTIF(E5:E42,"Medium") -> 0
B54: Total Low | E54: =COUNTIF(E5:E42,"Low") -> 0
B56: Corrective Action Schedule
B57: Total Immediate | F57: =COUNTIF(F5:F42,"Immediate") -> 0
B58: Total Intermediate | F58: =COUNTIF(F5:F42,"Intermediate") -> 0
B59: Total Long-Term | F59: =COUNTIF(F5:F42,"Long-Term") -> 0
B61: Total PMIS Statements Needed | H61: =COUNTIF(H5:H42,"Needed") -> 0
B62: Total Work Orders Needed | I62: =COUNTIF(I5:I42,"Needed") -> 0
B63: Total Estimated Cost | J63: =SUM(J5:J16, J18:J41) -> 0
B66: Museum Risk Assessment Worksheet Version 1.2 issued by NPS Museum Management Program, August 2025
B68: NPS Museum Handbook Part I, Museum Risk Assessment Worksheet (Ver 1.2) Figure 10.2

Sheet Museum Fire Protection
B1: NATIONAL PARK SERVICE MUSEUM RISK ASSESSMENT WORKSHEET
A2: # | B2: Risk Factors: MUSEUM FIRE PROTECTION | C2: Response | D2: Mitigation | K2: Comments | L2: Source (Handbook/NPS Checklist)
B3: =_xlfn.CONCAT("Facility Name: ",'Cover Sheet'!C48) -> Facility Name: | C3: (Yes/No/ NA/ Unknown) | D3: Corrective Action Needed | E3: Corrective Action Priority | F3: Corrective Action Schedule | G3: Responsible Individual | H3: PMIS (Needed, Not Needed or PMIS #) | I3: Work Order (Needed, Not Needed, or Work Order #) | J3: Estimated Cost | L3: NPS Checklist | M3: Museum Handbook I
B4: (Curatorial Responses)
A5: 1 | B5: Automatic fire detection and alarm systems are installed and function as intended. | E5: =IF(C5="No","Critical","") | L5: F8 | M5: 9.B.1 Museum Fire Protection
A6: 2 | B6: Automatic fire sprinkler and/or suppression systems are installed and function as intended. | E6: =IF(C6="No","Critical","") | L6: F8 | M6: 9.B.1 Museum Fire Protection
A7: 3 | B7: Fire protection needs of collections in this structure are addressed in the Museum Fire Section, which has been added as the last chapter of the park Structural Fire Management Plan. | E7: =IF(C7="No","Critical","") | L7: F5 | M7: 9.E.2 Museum Fire Protection
A8: 4 | B8: Storage cabinets and exhibit cases are at least 18 inches from fire suppression system discharge heads. | L8: F3 | M8: 9.I.1 Museum Fire Protection
A9: 5 | B9: Mobile storage carriages have opening of at least 4 inches to allow for penetration by sprinkler or suppression systems. | L9: F4 | M9: 9.E.19 Museum Fire Protection
A10: 6 | B10: Smoking is prohibited in writing within the building and within 25 feet of structures storing and exhibiting collections and museum work areas. | E10: =IF(C10="No","Critical","") | L10: A4 | M10: 9.E.3 Museum Fire Protection
A11: 7 | B11: Accession book is kept in a locking, insulated fire-resistive filing cabinet, safe, or vault with a UL rating of 350°F 1-hour. | E11: =IF(C11="No","Critical","") | L11: F11 | M11: 9.E.9 Museum Fire Protection
A12: 8 | B12: Container such as media safe or box with a UL rating of 125°F 1-hour is used to store backup copies of ICMS data, digital images, and other electronic media. | L12: F13 | M12: 9.E.9 Museum Fire Protection
A13: 9 | B13: Flammable and hazardous liquids and supplies are stored in appropriate cabinets in accordance with nationally-recognized fire codes and labeled accordingly, and are housed separately from collections storage rooms. | E13: =IF(C13="No","Critical","") | L13: B3 | M13: 9.E.6 Museum Fire Protection
A14: 10 | B14: Wet specimens are housed separately in well-sealed jars, with appropriate ventilation in accordance with nationally-recognized fire codes. | L14: F10 | M14: 9.E.7 Museum Fire Protection
A15: 11 | B15: Building is free of unstable or actively degrading cellulose nitrate negatives or motion picture film. | M15: 9.E.8 Museum Fire Protection
A16: 12 | B16: Stable cellulose nitrate film and negatives are labeled and stored in cold storage away from other collections or off-site in accordance with NPS and NFPA fire safety guidelines. | L16: B29 | M16: App M Management of Cellulose Nitrate & Cellulose Ester Film
A17: 13 | B17: Fuel, gas, or oil is totally drained from historic vehicles, appliances, and machinery in the collection, and tanks are vapor free. | M17: 10.E.7 Emergency Planning
A18: 14 | B18: Appliances such as coffee makers or microwaves, including cords, are UL rated, checked annually, are unplugged each evening or have automatic shutoffs, and are kept in good working order. | M18: 9.E.7 Museum Fire Protection
A19: 15 | B19: Appliance and computer vents are kept clear of obstructions to prevent heat buildup. | M19: 9.E.14 Museum Fire Protection
A20: 16 | B20: Exits and routes, aisles, and walkways are kept clear and unobstructed. Doors and windows are kept closed (e.g. not propped open) when not in use to prevent spread of fire and smoke. | M20: 9.E.19 Museum Fire Protection
A21: 17 | B21: Local fire department has been toured through the facility and familiarized with special needs of collections during a fire, with follow-up tours as needed. | L21: F5 | M21: 9.B.1 Museum Fire Protection
A22: 18 | B22: Museum fire protection survey has been completed. | L22: H3 | M22: 9.C.2 Museum Fire Protection
B23: (Facility Manager, Park Structural Fire Coordinator, Chief of Interpretation & Others)
A24: 19 | B24: Automatic fire protection systems were designed and installed to provide full coverage by a structural fire protection professional with concurrence from Regional Structural Fire Marshal or Fire Code Official. | M24: 9.B.1, 9.F.9 Museum Fire Protection
A25: 20 | B25: Automatic fire detection and alarm systems are fully operational 24/7/365, and are inspected and maintained on a regular schedule. | E25: =IF(C25="No","Critical","") | L25: B27 | M25: 9.E.7 Museum Fire Protection
A26: 21 | B26: Automatic fire suppression systems are fully operational 24/7/365, and are inspected and maintained on a regular schedule. | E26: =IF(C26="No","Critical","") | L26: B27 | M26: 9.E.7 Museum Fire Protection
A27: 22 | B27: Overhead water pipes for fire suppression are installed in aisles rather than over the top of freestanding storage cabinets to protect from potential water damage. | L27: B9 | M27: 9.F.9 Museum Fire Protection
A28: 23 | B28: Space is separated (compartmented) by appropriate fire-rated doors, walls, and other assemblies and structural elements. (For furnished historic structure, respond NA and describe in risk factor #22 immediately below) | E28: =IF(C28="No","Critical","") | L28: F7 | M28: 9.B.1 Museum Fire Protection
A29: 24 | B29: Furnished historic structures housing collections are separated by function to the extent possible. (For non-historic structures respond NA) | E29: =IF(C29="No","Critical","") | L29: F7, F9 | M29: 9.B.1 Museum Fire Protection
A30: 25 | B30: Fire/smoke dampers are installed in HVAC ducts, fire barriers, and fire doors to limit fire spread and smoke infiltration. | M30: 9.E.21 Museum Fire Protection
A31: 26 | B31: Emergency exit doors have a fire rating consistent with surrounding walls. | M31: 9.E.21 Museum Fire Protection
A32: 27 | B32: Portable fire extinguishers are selected and installed according to potential fire sources, object materials, and size of protected area. | M32: 9.B.1 Museum Fire Protection
A33: 28 | B33: Fire extinguishers are inspected annually to ensure that they are operational. | L33: F1 | M33: 9.F.11 Museum Fire Protection
A34: 29 | B34: Staff are trained annually in the use of fire extinguishers. | L34: F2 | M34: 9.F.15 Museum Fire Protection
A35: 30 | B35: Building and structural components (walls, floors, ceilings, doors and windows) are made fire-resistant to the extent possible. (For furnished historic structure, describe in the Comments column) | L35: F6 | M35: 9.E.17 Museum Fire Protection
A36: 31 | B36: A Life Safety and Fire Protection Risk Assessment for structures housing collections has been conducted. | M36: 9.B.1 Museum Fire Protection
A37: 32 | B37: Hot Work Permit (HW-1) is approved for hot work. Collections are protected or moved to a secure location during hot work. | M37: 9.B.1 Museum Fire Protection
A38: 33 | B38: Fire department can respond to a fire within 9-14 minutes in accordance with RM-58: Structural Fire Managment. (If response time is greater than 14 minutes, describe in the Comments column) | M38: 9.D.4 Museum Fire Protection
A39: 34 | B39: Accessible fire hydrant with usable water pressure is located within 300 yards of the building, or there is an alternative water source approved by the FCO in accordance with RM-58: Structural Fire Managment. | M39: 9.F.2 Museum Fire Protection
A40: 35 | B40: Structure is free of open flames, including lit matches, candles, lanterns, active fireplaces, ovens, space and kerosene heaters, and wood-burning stoves. | E40: =IF(C40="No","Critical","") | M40: 9.E.4 Museum Fire Protection
A41: 36 | B41: Demonstrations such as cooking or blacksmithing using wood stoves, oil lamps, or forges are performed at least 300 feet from the structure. | M41: 9.E.4 Museum Fire Protection
A42: 37 | B42: Flame-retardant (impregnated or treated) fabrics and other materials are used in curtains, draperies, banners, bunting, articial plants, and floor treatments such as carpets. | M42: 9.E.11 Museum Fire Protection
A43: 38 | B43: Room is free of hot plates, stovetops or ovens for cooking, and fuel fired (kerosene) open-coil portable heaters. Only UL listed personal heaters (e.g. without open coils) with a tip-over switch are used in designated areas. | M43: 9.E.14 Museum Fire Protection
A44: 39 | B44: Garages and fuel, propane, or other flammable liquid storage are located at least one block from the building in accordance with RM-58: Structural Fire Management. | M44: 9.E.6 Museum Fire Protection
A45: 40 | B45: Brush, trash, and other combustibles are kept away from structures housing collections. | M45: 9.F.19 Museum Fire Protection
A46: 41 | B46: Building electrical system and wiring is installed, inspected, and maintained by a professional electrician in accordance with NFPA 70: National Electric Code and other local and national electrical codes. | M46: 9.E.14 Museum Fire Protection
A47: 42 | B47: Concrete flooring is free of air passages between floors to limit fire spread and smoke infiltration. | M47: 7.B.9 Museum Collection Storage
A48: 43 | B48: Older (>15 years) fluorescent light bulb ballasts have been replaced with thermally-protected Class P ballasts. | M48: 9.E.18 Museum Fire Protection
B51: Risk Factor Responses
B52: Total Yes | C52: =COUNTIF(C5:C49,"Yes") -> 0
B53: Total No | C53: =COUNTIF(C5:C49,"No") -> 0
B54: Total NA | C54: =COUNTIF(C5:C49,"NA") -> 0
B55: Total Unknown | C55: =COUNTIF(C5:C49,"Unknown") -> 0
B57: Corrective Action Priorities
B58: Total Critical | E58: =COUNTIF(E5:E49,"Critical") -> 0
B59: Total High | E59: =COUNTIF(E5:E49,"High") -> 0
B60: Total Medium | E60: =COUNTIF(E5:E49,"Medium") -> 0
B61: Total Low | E61: =COUNTIF(E5:E49,"Low") -> 0
B63: Corrective Action Schedule
B64: Total Immediate | F64: =COUNTIF(F5:F49,"Immediate") -> 0
B65: Total Intermediate | F65: =COUNTIF(F5:F49,"Intermediate") -> 0
B66: Total Long-Term | F66: =COUNTIF(F5:F49,"Long-Term") -> 0
B68: Total PMIS Statements Needed | H68: =COUNTIF(H5:H49,"Needed") -> 0
B69: Total Work Orders Needed | I69: =COUNTIF(I5:I49,"Needed") -> 0
B70: Total Estimated Cost | J70: =SUM(J5:J22, J24:J48) -> 0
B73: Museum Risk Assessment Worksheet Version 1.2 issued by NPS Museum Management Program, August 2025
B75: NPS Museum Handbook Part I, Museum Risk Assessment Worksheet (Ver 1.2) Figure 10.2

Sheet Health_Safety (Museum-wide)
B1: NATIONAL PARK SERVICE MUSEUM RISK ASSESSMENT WORKSHEET
A2: # | B2: Risk Factors: HEALTH & SAFETY (Museum-wide) | C2: Response | D2: Mitigation | K2: Comments | L2: Source (Handbook/NPS Checklist)
B3: =_xlfn.CONCAT("Facility Name: ",'Cover Sheet'!C48) -> Facility Name: | C3: (Yes/No/ NA/ Unknown) | D3: Corrective Action Needed | E3: Corrective Action Priority | F3: Corrective Action Schedule | G3: Responsible Individual | H3: PMIS (Needed, Not Needed or PMIS #) | I3: Work Order (Needed, Not Needed, or Work Order #) | J3: Estimated Cost | L3: NPS Checklist | M3: Museum Handbook I
B4: (Curatorial Responses)
A5: 1 | B5: Spaces and/or cabinets housing specimens stored in fluids, objects treated with pesticides, radioactive minerals and fossils, or nitrate film are identified by appropriate health and safety signs. | E5: =IF(C5="No","Critical","") | L5: B30 | M5: 11.D.8 Curatorial Health & Safety
A6: 2 | B6: Hazardous supplies such as chemicals used in collections management are safely stored and labeled in accordance with 29 CFR 1910.1200(f)(6): Workplace labeling, and with appropriate Hazard Communication Standard placards. | M6: 11.C.10 Curatorial Health & Safety
A7: 3 | B7: Museum staff are trained in how to recognize hazardous objects and materials such as asbestos, arsenic, lead, old medicines, drugs, and chemicals, radioactive objects; corrosion, bulging, odors, and residues; mold, presence of insects and rodents, and pesticides. | M7: 11.D.10 Curatorial Health & Safety
A8: 4 | B8: Objects that have been treated with pesticides or otherwise contaminated are housed and labeled appropriately. | M8: 11.D.3 Curatorial Health & Safety
A9: 5 | B9: Hazardous materials in collections, such as medicines and needles in medical bags or kerosene in lamps, are removed or mitigated to the extent possible. (Describe in the Comments column) | M9: 11.D Curatorial Health & Safety
A10: 6 | B10: Collections are free of asbestos contamination. | M10: 11.E.1 Curatorial Health & Safety
A11: 7 | B11: Museum program maintains complete first aid kit(s) appropriate to staff size in accordance with OSHA 1910.266 App A: First-aid Kits. | M11: 11.D.8 Curatorial Health & Safety
A12: 8 | B12: Designated museum staff have CPR and basic first aid training. | M12: 11.D.6 Curatorial Health & Safety
A13: 9 | B13: Hazardous substances and chemicals used in the museum are listed and inventoried annually with accompanying Safety Data Sheets (SDS). | M13: 11.D.5 Curatorial Health & Safety
A14: 10 | B14: Building has emergency eyewash and shower stations when corrosive or caustic materials are used in a preparation room or laboratory. | M14: 11.C.5 Curatorial Health & Safety
A15: 11 | B15: All museum firearms have been evaluated and unloaded and cleared by an experienced specialist. | E15: =IF(C15="No","Critical","") | M15: App G.B.1 Museum Firearms, Small Arms Ammunition, Munitions, and Artillery
A16: 12 | B16: Exhibits are confirmed free of loaded firearms. | M16: App G.C.II.3 Museum Firearms, Small Arms Ammunition, Munitions, and Artillery
A17: 13 | B17: Firearms are stored in a locking museum-quality cabinet, and loaded firearms are not comingled with unloaded firearms. | E17: =IF(C17="No","Critical","") | M17: App G.C.II.2 Museum Firearms, Small Arms Ammunition, Munitions, and Artillery
A18: 14 | B18: All museum small arms ammunition has been evaluated and appropriate action determined by an experienced specialist. | E18: =IF(C18="No","Critical","") | M18: App G.B.1 Museum Firearms, Small Arms Ammunition, Munitions, and Artillery
A19: 15 | B19: Small arms ammunition is housed separately from firearms. (If there is no small arms ammunition in collection respond NA) | M19: App G.B.1 Museum Firearms, Small Arms Ammunition, Munitions, and Artillery
A20: 16 | B20: Live small arms ammunition that is to be retained in the collection is safely stored in a fire-resistant magazine and/or anti-static box within a locking cabinet in secure collections storage. | M20: App G.B.1 Museum Firearms, Small Arms Ammunition, Munitions, and Artillery
A21: 17 | B21: Exhibits are confirmed free of live small arms ammunition. | M21: App G.B.1 Museum Firearms, Small Arms Ammunition, Munitions, and Artillery
A22: 18 | B22: a. All museum military munitions and artillery have been evaluated by a DOD Explosive Ordnance Disposal unit or accredited Public Safety Bomb Squad. | E22: =IF(C22="No","Critical","") | M22: App G.B.1 Museum Firearms, Small Arms Ammunition, Munitions, and Artillery
B23: b. If safe to do so, live military munitions have been rendered inert by an US Marine Corps Explosive Ordnance Disposal unit. | E23: =IF(C23="No","Critical","") | M23: App G.B.1 Museum Firearms, Small Arms Ammunition, Munitions, and Artillery
B24: c. All museum artillery has been unloaded by a Department of Defense Explosive Ordnance Disposal unit or accredited Public Safety Bomb Squad. | E24: =IF(C24="No","Critical","") | M24: App G.B.1 Museum Firearms, Small Arms Ammunition, Munitions, and Artillery
B25: d. All museum non-combat explosives have been evaluated and, if safe to do so, rendered inert by a Certified Blaster or accredited Public Safety Bomb Squad. | E25: =IF(C25="No","Critical","") | M25: App G.B.1 Museum Firearms, Small Arms Ammunition, Munitions, and Artillery
A26: 19 | B26: Exhibits are confirmed free of live munitions, live non-combat explosives, and loaded artillery. | M26: App G.E.II.3 Museum Firearms, Small Arms Ammunition, Munitions, and Artillery
B27: (Facility Manager, Safety Officer & Others)
A28: 20 | B28: Building, including attics, basements, HVAC vents, and drains, is free from active mold. | E28: =IF(C28="No","Critical","") | M28: 5.G.10 Biological Infestations
A29: 21 | B29: Building is free of mice, rats and other rodents, including droppings. | M29: 11.E.8 Curatorial Health & Safety
A30: 22 | B30: Building is free of damaged or flaking asbestos insulation (such as wiring insulation), floor tiles, wallboard, or ceiling tiles and lead paint. | M30: 11.A.4 Curatorial Health & Safety
A31: 23 | B31: Building is free of sources of radiation such as radon. | M31: 11.G.2 Curatorial Health & Safety
A32: 24 | B32: Building is free of significant health and safety risks from hazardous chemicals. | M32: 11.D.1 Curatorial Health & Safety
A33: 25 | B33: Designated park staff is trained in hazardous material handling. | M33: 11.C.11 Curatorial Health & Safety
A34: 26 | B34: Park uses a trained hazardous waste coordinator as needed. | M34: 11.C.11 Curatorial Health & Safety
A35: 27 | B35: Designated staff have fitted with appropriate PPE, including rated-breathing apparatus. | M35: 11.C.7 Curatorial Health & Safety
A36: 28 | B36: Air handling and air exchange systems meet OSHA and ASHRAE health and safety standards. | M36: 11.C.4 Curatorial Health & Safety
A37: 29 | B37: Disinfection procedures and social practices during a health emergency are implemented in accordance with federal, state, and local laws and regulations. | M37: 11.C.5 Curatorial Health & Safety
B40: Risk Factor Responses
B41: Total Yes | C41: =COUNTIF(C5:C38,"Yes") -> 0
B42: Total No | C42: =COUNTIF(C5:C38,"No") -> 0
B43: Total NA | C43: =COUNTIF(C5:C38,"NA") -> 0
B44: Total Unknown | C44: =COUNTIF(C5:C38,"Unknown") -> 0
B46: Corrective Action Priorities
B47: Total Critical | E47: =COUNTIF(E5:E38,"Critical") -> 0
B48: Total High | E48: =COUNTIF(E5:E38,"High") -> 0
B49: Total Medium | E49: =COUNTIF(E5:E38,"Medium") -> 0
B50: Total Low | E50: =COUNTIF(E5:E38,"Low") -> 0
B52: Corrective Action Schedule
B53: Total Immediate | F53: =COUNTIF(F5:F38,"Immediate") -> 0
B54: Total Intermediate | F54: =COUNTIF(F5:F38,"Intermediate") -> 0
B55: Total Long-Term | F55: =COUNTIF(F6:F38,"Long-Term") -> 0
B57: Total PMIS Statements Needed | H57: =COUNTIF(H5:H38,"Needed") -> 0
B58: Total Work Orders Needed | I58: =COUNTIF(I5:I38,"Needed") -> 0
B59: Total Estimated Cost | J59: =SUM(J5:J26, J28:J37) -> 0
B62: Museum Risk Assessment Worksheet Version 1.2 issued by NPS Museum Management Program, August 2025
B64: NPS Museum Handbook Part I, Museum Risk Assessment Worksheet (Ver 1.2) Figure 10.2

Sheet Museum Security
B1: NATIONAL PARK SERVICE MUSEUM RISK ASSESSMENT WORKSHEET
A2: # | B2: Risk Factors: MUSEUM SECURITY | C2: Response | D2: Mitigation | K2: Comments | L2: Source (Handbook/NPS Checklist)
B3: =_xlfn.CONCAT("Facility Name: ",'Cover Sheet'!C48) -> Facility Name: | C3: (Yes/No/ NA/ Unknown) | D3: Corrective Action Needed | E3: Corrective Action Priority | F3: Corrective Action Schedule | G3: Responsible Individual | H3: PMIS (Needed, Not Needed or PMIS #) | I3: Work Order (Needed, Not Needed, or Work Order #) | J3: Estimated Cost | L3: NPS Checklist | M3: Museum Handbook I
B4: (Curatorial Responses)
A5: 1 | B5: Structures and rooms housing museum collections are secured with physical security systems. | E5: =IF(C5="No","Critical","") | M5: 14.B.1 Museum Security
A6: 2 | B6: Physical and electronic security systems are kept continuously operational to protect collections and document acces. | E6: =IF(C6="No","Critical","") | L6: E12 | M6: 14.B.1 Museum Security
A7: 3 | B7: Structures and rooms housing museum collections are secured with electronic security systems including intrusion detection systems, electronic key card systems, and Video Security Systems (VSS). | E7: =IF(C7="No","Critical","") | L7: E12 | M7: 14.B.1 Museum Security
A8: 4 | B8: Curator stores collections in a dedicated, secure storage room with restricted access in a secure structure, and separated from curatorial offices, work and research areas, and supply storage. | M8: 14.B.1 Museum Security
A9: 5 | B9: Collections storage cabinets have working locking mechanisms. (If object size or type does not require storage equipment, respond NA and describe in Comments column) | L9: B15 | M9: 14.G.I.4 Museum Security
A10: 6 | B10: Approved written access policies and procedures for museum collections in storage and on exhibit are implemented. | E10: =IF(C10="No","Critical","") | M10: 14.B.1 Museum Security
A11: 7 | B11: All park non-museum staff and visitors who enter storage areas are accompanied and monitored at all times by park museum staff. | L11: E4 | M11: 14.B.1 Museum Security
A12: 8 | B12: Visitors, including non-museum staff and researchers, sign in to collections storage using the NPS Visitor Log and certify agreement to the Conditions for Access to Museum Collections | L12: E3 | M12: 14.B.1 Museum Security
A13: 9 | B13: NPS Visitor and Staff Log and Conditions for Access to Museum Collections are posted at the designated entrance to collections storage and made available on the park website. | E13: =IF(C13="No","Critical","") | M13: 14.E.I.2 Museum Security
A14: 10 | B14: Approved written opening and closing procedures for collections storage and exhibit spaces are implemented. | E14: =IF(C14="No","Critical","") | L14: A2, E6 | M14: 14.B.1 Museum Security
A15: 11 | B15: An approved written museum key control policy for collections in storage and on exhibit has been implemented and is updated with the Physical Security Assessment of park structures every three to five years. | M15: 14.B.1 Museum Security
A16: 12 | B16: Keys to museum storage, work and research spaces are issued only to the curator and designated museum staff with routine, assigned hands-on collection management duties. | L16: E1 | M16: 14.B.1 Museum Security
A17: 13 | B17: Keys to furnished historic structures and other structures exhibiting collections are issued only to the curator and minimum number of NPS staff with justified need for issuance. | M17: 14.B.1 Museum Security
A18: 14 | B18: Storage cabinet and exhibit case keys are managed by the curator and secured in a separate locking museum key box installed in a secure area such as the curatorial office or collections storage room. | M18: 14.B.1 Museum Security
A19: 15 | B19: Receipt for property is issued to document key, key card, and alarm code issuance for collections storage and exhibit spaces, using Receipt for Property Form DI-105 or equivalent. | L19: E2 | M19: 14.B.1 Museum Security
A20: 16 | B20: Approved Museum Security Plan has been attached to the park's overall Physical Security Plan. | M20: 14.B.1 Museum Security
A21: 17 | B21: All objects in the collection have been accessioned. | M21: 14.F.I.1 Museum Security
A22: 18 | B22: All objects in the collection have been cataloged. | M22: 14.F.I.1 Museum Security
A23: 19 | B23: Inventory is conducted annually and reconciled in accordance with the NPS Museum Handbook. | E23: =IF(C23="No","Critical","") | M23: 14.F.I.4 Museum Security
A24: 20 | B24: Framed two-dimensional artwork on exhibit is securely mounted using security hardware such as S-hooks, double-end bolt snaps, or art hook alarms. (For historic mounts describe in Comments column) | L24: A12 | M24: 14.F.II.3 Museum Security
A25: 21 | B25: Temporary object removal slip (Form 10-97) is used when objects are removed from exhibit or storage. | M25: 14.F.I.5 Museum Security
A26: 22 | B26: Exhibit plans are reviewed by the curator and museum security team to ensure that museum objects are appropriately secured. | L26: C1 | M26: 14.F.II.2 Museum Security
A27: 23 | B27: Objects are exhibted in locked cases with secure mounts, and security screws that are fully functional and checked regularly. (If there are no exhibit cases, respond NA) | L27: C4 | M27: 14.G.I.5 Museum Security
A28: 24 | B28: Objects on open display are positioned well out of visitors' reach. | M28: 14.F.II.3 Museum Security
A29: 25 | B29: Objects on open display are monitored with visible and hidden intrusion detection systems such as motion detectors and/or pressure mats, and with VSS cameras. | M29: 14.F.II.4 Museum Security
A30: 26 | B30: Objects on open display are protected by physical barriers such as acrylic or plexiglass panes or metal gates. (If there are no objects on open display, respond NA) | L30: C7, E7 | M30: 14.F.II.3 Museum Security
A31: 27 | B31: Exhibit case vitrines are designed and fabricated of appropriate thickness to withstand blows, and that are securely joined and fastened to sturdy walls, ceiling, and/or floors. | M31: 14.G.I.5 Museum Security
A32: 28 | B32: Objects are protected and secured during construction or relocated to a safe alternate location in advance. | M32: 14.D.7 Museum Security
A33: 29 | B33: Access to museum records and databases, including computers and servers, is controlled. | M33: 14.F.I.2-3 Museum Security
A34: 30 | B34: PIV cards are safeguarded and kept in the possession of issued staff at all times. | M34: 14.F.I.3 Museum Security
B35: (Facility Manager, Physical Security Coordinator, Chief of Interpretation & Others)
A36: 31 | B36: Furnished historic structures are secured with locking exterior doors and secure windows that provide appropriate security, in consultation with the historical architect advisor and Section 106 compliance officer. | E36: =IF(C36="No","Critical","") | M36: 14.G.I.2 Museum Security
A37: 32 | B37: Structure or space has as few doors as possible to control entry and minimize unauthorized access without compromising life safety and fire protection. | L37: B8 | M37: 14.D.6 Museum Security
A38: 33 | B38: Space is free of water, gas, or electric meters, panels, and valves that require monitoring and servicing by non-curatorial staff. | L38: B10 | M38: 14.D.6 Museum Security
A39: 34 | B39: Intrusion detection and alarm systems are regularly inspected, tested and maintained. (If there are no intrusion detection systems, respond NA) | E39: =IF(C39="No","Critical","") | L39: E9 | M39: 14.H.I.4 Museum Security
A40: 35 | B40: Intrusion detection alarm system keypads are installed on the interior of structures and rooms and away from vulnerable or exposed areas to prevent tampering. | M40: 14.H.II.4 Museum Security
A41: 36 | B41: Doors are metal or solid-core wood with deadbolt and handset locks equipped with interchangeable high security deadbolt locks. (For furnished historic structures respond NA and describe in Comments column) | L41: E11 | M41: 14.D.6 Museum Security
A42: 37 | B42: Exterior windows are made of appropriately reinforced security glass and have and have strong secure locking hardware. (For furnished historic structures respond NA) | M42: 14.G.I.3 Museum Security
A43: 38 | B43: Adequate designated staff is present in exhibit spaces, including visitor centers and furnished historic structures, during public hours. | L43: C7 | M43: 14.F.II.1 Museum Security
A44: 39 | B44: Appropriate and safe maximum tour size has been determined, depending on room size and object vulnerability. | M44: 14.F.II.5 Museum Security
A45: 40 | B45: Tours of furnished historic structures are accompanied at all times, including a leader and "trailer" staff at the rear. (If tours are not accompanied, describe in Comments column. Respond NA for non-historic structures) | M45: 14.F.II.5 Museum Security
A46: 41 | B46: Staff who interact with the public are equipped with duress alarms (fixed or person-worn). | M46: 14.H.II.2 Museum Security
A47: 42 | B47: Regular patrols are conducted during non-public hours. | M47: 14.D.5 Museum Security
A48: 43 | B48: Building has a well-lit exterior for nighttime security. | M48: 14.G.III.2 Museum Security
A49: 44 | B49: Security lighting is installed inside the space storing or exhibiting collections. | M49: 14.G.III.2 Museum Security
A50: 45 | B50: Building exteriors are illuminated using equipment such as time switches and/or motion-activated lighting. | M50: 14.G.III.2 Museum Security
A51: 46 | B51: Park has been vandalism, arson, bomb threat, significant employee or community relations problem, and political demonstration-free for the last decade. | M51: 14.C.I Museum Security
A52: 47 | B52: Roof and other access points are secured from intrusion and alarmed. | M52: 14.G.I.2 Museum Security
B55: Risk Factor Responses
B56: Total Yes | C56: =COUNTIF(C5:C53,"Yes") -> 0
B57: Total No | C57: =COUNTIF(C5:C53,"No") -> 0
B58: Total NA | C58: =COUNTIF(C5:C53,"NA") -> 0
B59: Total Unknown | C59: =COUNTIF(C5:C53,"Unknown") -> 0
B61: Corrective Action Priorities
B62: Total Critical | E62: =COUNTIF(E5:E53,"Critical") -> 0
B63: Total High | E63: =COUNTIF(E5:E53,"High") -> 0
B64: Total Medium | E64: =COUNTIF(E5:E53,"Medium") -> 0
B65: Total Low | E65: =COUNTIF(E5:E53,"Low") -> 0
B67: Corrective Action Schedule
B68: Total Immediate | F68: =COUNTIF(F5:F53,"Immediate") -> 0
B69: Total Intermediate | F69: =COUNTIF(F5:F53,"Intermediate") -> 0
B70: Total Long-Term | F70: =COUNTIF(F5:F53,"Long-Term") -> 0
B72: Total PMIS Statements Needed | H72: =COUNTIF(H5:H53,"Needed") -> 0
B73: Total Work Orders Needed | I73: =COUNTIF(I5:I53,"Needed") -> 0
B74: Total Estimated Cost | J74: =SUM(J5:J34, J36:J52) -> 0
B77: Museum Risk Assessment Worksheet Version 1.2 issued by NPS Museum Management Program, August 2025
B79: NPS Museum Handbook Part I, Museum Risk Assessment Worksheet (Ver 1.2) Figure 10.2

Sheet Museum Structure
B1: NATIONAL PARK SERVICE MUSEUM RISK ASSESSMENT WORKSHEET
A2: # | B2: Risk Factors: MUSEUM STRUCTURE | C2: Response | D2: Mitigation | K2: Comments | L2: Source (Handbook/NPS Checklist)
B3: =_xlfn.CONCAT("Facility Name: ",'Cover Sheet'!C48) -> Facility Name: | C3: (Yes/No/ NA/ Unknown) | D3: Corrective Action Needed | E3: Corrective Action Priority | F3: Corrective Action Schedule | G3: Responsible Individual | H3: PMIS (Needed, Not Needed or PMIS #) | I3: Work Order (Needed, Not Needed, or Work Order #) | J3: Estimated Cost | L3: NPS Checklist | M3: Museum Handbook I
B4: (Facility Manager & Others)
A5: 1 | B5: Structure has been inspected and found adequate by a structural engineer within the last 10 years. | M5: 10.E.5 Emergency Planning
A6: 2 | B6: When the building is under renovation or repair, contract or work order includes provisions for collections security and fire protection. | E6: =IF(C6="No","Critical","") | M6: 10.E.4 Emergency Planning
A7: 3 | B7: Structure is sound and free from cracks and/or weakened support beams or other substantial structural damage. | M7: 5.E.10 Biological Infestations | N7: 10.E.5 Emergency Planning
A8: 4 | B8: Structure is free from sagging floors or ceilings. | M8: 10.E.5 Emergency Planning
A9: 5 | B9: Storage space is free of dropped ceilings. | M9: 7.B.9 Museum Collection Storage
A10: 6 | B10: Stairways and other passageways within the building are enclosed and/or insulated. | M10: 9.E.9 Museum Fire Protection
A11: 7 | B11: Structure has sound vapor barrier or damp course (barrier against rising moisture). (For furnished historic structures respond NA or describe in Comments column) | M11: 4.G.4 Museum Environment
A12: 8 | B12: Structure basement is free of leaks and is above the water table level. | M12: 10.E.14 Emergency Planning
A13: 9 | B13: Water leak detectors are installed throughout the building to detect flooding. | M13: 10.E.14 Emergency Planning
A14: 10 | B14: Structure has equipment or system to remove water, such as a sump pump. | M14: 10.E.14 Emergency Planning
A15: 11 | B15: Structure roof is in good repair and free of leaks, routinely maintained, and functions as intended. | M15: 10.E.14 Emergency Planning
A16: 12 | B16: Structure gutters are well attached, cleaned bi-annually, routinely maintained, and function as intended. | M16: 10.E.14 Emergency Planning
A17: 13 | B17: Structure downspouts are well-placed, clear, unobstructed, and direct water away from the building. | M17: 10.E.14 Emergency Planning
A18: 14 | B18: Structure has a well-maintained elevator or lift with alarm, working 24-hour-a-day phone, and escape hatch. (Respond NA if structure does not have an elevator or lift) | M18: 10.E.10 Emergency Planning
B21: Risk Factor Responses
B22: Total Yes | C22: =COUNTIF(C4:C19,"Yes") -> 0
B23: Total No | C23: =COUNTIF(C4:C19,"No") -> 0
B24: Total NA | C24: =COUNTIF(C4:C19,"NA") -> 0
B25: Total Unknown | C25: =COUNTIF(C4:C19,"Unknown") -> 0
B27: Corrective Action Priorities
B28: Total Critical | E28: =COUNTIF(E4:E19,"Critical") -> 0
B29: Total High | E29: =COUNTIF(E4:E19,"High") -> 0
B30: Total Medium | E30: =COUNTIF(E4:E19,"Medium") -> 0
B31: Total Low | E31: =COUNTIF(E4:E19,"Low") -> 0
B33: Corrective Action Schedule
B34: Total Immediate | F34: =COUNTIF(F4:F19,"Immediate") -> 0
B35: Total Intermediate | F35: =COUNTIF(F4:F19,"Intermediate") -> 0
B36: Total Long-Term | F36: =COUNTIF(F4:F19,"Long-Term") -> 0
B38: Total PMIS Statements Needed | H38: =COUNTIF(H4:H19,"Needed") -> 0
B39: Total Work Orders Needed | I39: =COUNTIF(I4:I19,"Needed") -> 0
B40: Total Estimated Cost | J40: =SUM(J5:J18) -> 0
B43: Museum Risk Assessment Worksheet Version 1.2 issued by NPS Museum Management Program, August 2025
B45: NPS Museum Handbook Part I, Museum Risk Assessment Worksheet (Ver 1.2) Figure 10.2

Sheet Changelog
B1: Changelog
B3: Version 1.0 | D3: Initial release
B4: Version 1.1 | D4: Updates "Health_Safety" tab to reflect new Museum Handbook Part I, Appendix G: Museum Firearms, Small Arms Ammunition, Munitions, and Artillery (2023)
D5: "Estimated Cost" tabulation added (in $) on each tab, and on Cover Sheet
D6: Minor edits, including additional instructions
B7: Version 1.2 | D7: Updates "Museum Security" tab to reflect updated Museum Handbook Part I, Chapter 14: Museum Security (2024)
D8: Adds NPS Wildfire Risk Assessments Viewer Web App to Cover Sheet
D9: Adds rock-fall area to "Facility Information" section of Cover Sheet
D10: Updated all links to reflect new NPS Museum Management Program website URL
B14: Museum Risk Assessment Worksheet Version 1.2 issued by NPS Museum Management Program, August 2025
B16: NPS Museum Handbook Part I, Museum Risk Assessment Worksheet (Ver 1.2) Figure 10.2
